BEGIN:VCALENDAR
VERSION:2.0
PRODID:icalendar-ruby
CALSCALE:GREGORIAN
METHOD:PUBLISH
BEGIN:VEVENT
DTSTAMP:20260420T021041Z
UID:fe6311ec-fe7b-43fb-8347-e0acbe345bce
DTSTART:20260420T110000
DTEND:20260420T220000
DESCRIPTION:<p>AAPT WAK 420 POTJIE EXPERIENCE </p><p>Step into a one-of-a-k
 ind 420 celebration where culture\, flavour\, music\, and elevated vibes c
 ome together for an unforgettable day. The Aaptwak 420 Potjie Event isn’
 t just another gathering — it’s a full-on experience designed for thos
 e who appreciate good energy\, great people\, and even better moments.</p>
 <p> Flavour Like No Other</p><p>Prepare your taste buds for a culinary jou
 rney as the event is proudly catered by the legendary Mheza. Expect rich\,
  slow-cooked potjie flavours\, authentic recipes\, and mouthwatering servi
 ngs that bring people together the way only great food can.</p><p> Soundtr
 ack of the Day</p><p>Setting the tone and keeping the energy alive will be
  none other than the well-known DJ Timo\, delivering smooth\, vibey\, and 
 high-energy sets throughout the event. From laid-back grooves to turn-up m
 oments\, the music will carry you from start to finish.</p><p> The 420 Atm
 osphere</p><p>This is where the community links up. Whether you're coming 
 with your crew or meeting new faces\, expect a relaxed\, vibrant environme
 nt filled with good vibes\, laughter\, and unforgettable memories.</p><p> 
 Ticket Options for Everyone</p><p>From individual passes to crew bundles\,
  there’s a ticket for every kind of experience. Pull up solo or come dee
 p with your squad — either way\, you’re in for something special.</p><
 p> What to Expect</p><p>• Great food & authentic potjie cooking</p><p>
 • Premium music & live DJ experience</p><p>• A stylish\, social\, and 
 vibrant crowd</p><p>• Chill zones + high-energy moments</p><p>• A true
  420 celebration of lifestyle and culture</p><p> Limited Capacity — Don
 ’t Miss Out</p><p>This is an exclusive experience with limited tickets a
 vailable. Once they’re gone\, they’re gone.</p><p>Secure your spot now
  and be part of something unforgettable.</p><p>Aaptwak 420 Potjie Event 
 — Where Flavour Meets Vibes. </p><p><br></p>
LOCATION:249 Waggel street\, La Montagne
SUMMARY:Aaptwak 420 cookout
URL;VALUE=URI:https://new-ux.howler.co.za/420cookout26
END:VEVENT
END:VCALENDAR
